BEGIN:VCALENDAR
VERSION:2.0
PRODID:-//350Montana - ECPv5.2.1.1//NONSGML v1.0//EN
CALSCALE:GREGORIAN
METHOD:PUBLISH
X-WR-CALNAME:350Montana
X-ORIGINAL-URL:https://www.350montana.org
X-WR-CALDESC:Events for 350Montana
BEGIN:VTIMEZONE
TZID:America/Denver
BEGIN:DAYLIGHT
TZOFFSETFROM:-0700
TZOFFSETTO:-0600
TZNAME:MDT
DTSTART:20190310T090000
END:DAYLIGHT
BEGIN:STANDARD
TZOFFSETFROM:-0600
TZOFFSETTO:-0700
TZNAME:MST
DTSTART:20191103T080000
END:STANDARD
END:VTIMEZONE
BEGIN:VEVENT
DTSTART;TZID=America/Denver:20191209T120000
DTEND;TZID=America/Denver:20191209T160000
DTSTAMP:20260424T151958
CREATED:20191107T040923Z
LAST-MODIFIED:20191205T164637Z
UID:5079-1575892800-1575907200@www.350montana.org
SUMMARY:Ratepayers Rebellion—Helena
DESCRIPTION:The Montana Public Service Commission (PSC) is holding a public hearing on NorthWestern Energy’s zero clean energy plan on Dec. 9 in Helena. Montanans are flocking to protest this plan and demand a clean energy future.\n\n\n\n\n\n\n\n\n\n\n\n\n\n\n\nLearn More and RSVP\n\n\n\n\n\n\n\n\n\n\n\n\n\n\n\nWe’re in the midst of a climate emergency and our utility has filed its energy resource plan with the Montana PSC. The plan shows the types of energy NorthWestern Energy plans to use over the next twenty years to produce electricity. \nNorthWestern wants to keep burning expensive coal until 2042\, build more gas plants and develop exactly ZERO new renewable energy supplies. \nThe PSC can reject this assault on the people of Montana and its cherished environment. Join us for a rally and public hearing in Helena on Dec. 9. Buses will be traveling from Missoula\, Billings and Bozeman to join Helena locals! \nRSVP here and reserve your seat if you are travelling from Missoula\, Billings or Bozeman and we can follow up with more info. \nWhat: Resource Procurement Plan Hearing and Rally at Montana PSC.\nWhen: Monday\, Dec. 9. Rally at noon and hearing at 1:30 p.m.\nWhere: Montana Public Service Commission\, 1701 Prospect Ave\, Helena\, MT 59601 \nThe Montana PSC rarely gets public input on resource plans. If we show up in force\, commissioners will have no choice but to listen. They could reject NorthWestern’s plans since it’s their job to protect customers from high electric rates\, which coal and gas only make worse. \nPlease RSVP and we’ll follow up with more details about the buses. \nHope you can make it\, \nDavid Merrill\nSenior Organizing Representative\nBeyond Coal
URL:https://www.350montana.org/event/psc-public-hearing/
LOCATION:Public Service Commission Helena\, MT\, 1701 Prospect Ave\, Helena\, MT\, 59601\, United States
END:VEVENT
END:VCALENDAR