BEGIN:VCALENDAR
VERSION:2.0
PRODID:-//350Montana - ECPv5.2.1.1//NONSGML v1.0//EN
CALSCALE:GREGORIAN
METHOD:PUBLISH
X-WR-CALNAME:350Montana
X-ORIGINAL-URL:https://www.350montana.org
X-WR-CALDESC:Events for 350Montana
BEGIN:VTIMEZONE
TZID:America/Denver
BEGIN:DAYLIGHT
TZOFFSETFROM:-0700
TZOFFSETTO:-0600
TZNAME:MDT
DTSTART:20190310T090000
END:DAYLIGHT
BEGIN:STANDARD
TZOFFSETFROM:-0600
TZOFFSETTO:-0700
TZNAME:MST
DTSTART:20191103T080000
END:STANDARD
END:VTIMEZONE
BEGIN:VEVENT
DTSTART;TZID=America/Denver:20190207T121500
DTEND;TZID=America/Denver:20190207T130000
DTSTAMP:20260425T074030
CREATED:20190206T123428Z
LAST-MODIFIED:20190206T123521Z
UID:4165-1549541700-1549544400@www.350montana.org
SUMMARY:Zero-Fare Clean Air
DESCRIPTION:Join us on Feb 7\, at 12:15 p.m. at the Downtown Transfer Center for a celebration and a sneak peek at the bus designs. Hear about the exciting changes that are moving Missoula forward. \n 
URL:https://www.350montana.org/event/zero-fare-clean-air/
LOCATION:Mountain Line Transfer Center\, 200 W Pine\, Missoula\, MT\, 59802\, United States
END:VEVENT
BEGIN:VEVENT
DTSTART;TZID=America/Denver:20190207T190000
DTEND;TZID=America/Denver:20190207T203000
DTSTAMP:20260425T074030
CREATED:20190124T123012Z
LAST-MODIFIED:20190130T131741Z
UID:4141-1549566000-1549571400@www.350montana.org
SUMMARY:Green New Deal Discussion
DESCRIPTION:RSVP this event on action network.
URL:https://www.350montana.org/event/green-new-deal-discussion/
LOCATION:Goodworks Ventures\, 129 W. Alder\, Missoula\, MT\, 59802\, United States
END:VEVENT
END:VCALENDAR