BEGIN:VCALENDAR
VERSION:2.0
PRODID:-//350Montana - ECPv5.2.1.1//NONSGML v1.0//EN
CALSCALE:GREGORIAN
METHOD:PUBLISH
X-WR-CALNAME:350Montana
X-ORIGINAL-URL:https://www.350montana.org
X-WR-CALDESC:Events for 350Montana
BEGIN:VTIMEZONE
TZID:America/Denver
BEGIN:DAYLIGHT
TZOFFSETFROM:-0700
TZOFFSETTO:-0600
TZNAME:MDT
DTSTART:20180311T090000
END:DAYLIGHT
BEGIN:STANDARD
TZOFFSETFROM:-0600
TZOFFSETTO:-0700
TZNAME:MST
DTSTART:20181104T080000
END:STANDARD
END:VTIMEZONE
BEGIN:VEVENT
DTSTART;TZID=America/Denver:20180907T120000
DTEND;TZID=America/Denver:20180907T130000
DTSTAMP:20260425T155251
CREATED:20180907T104145Z
LAST-MODIFIED:20180907T110703Z
UID:3756-1536321600-1536325200@www.350montana.org
SUMMARY:NorthWestern Energy Popup
DESCRIPTION:HOWL FOR A FOSSIL FREE FUTURE!\, is a “pop up” demonstration  Friday\, September 7\, at Noon. If you’re as committed to a fossil fuel free future as 350 Montana is\, and you’re as pissed at the Trump reversals and our elected officials fiddling while our planet and our beautiful state burn\, I hope you’ll join us for the surprise demonstration on Friday. \nBring drums\, whistles\, a loud voice\, and as many friends as you can. You can RSVP here: \nLocation link available below
URL:https://www.350montana.org/event/northwestern-energy-popup-9-7-2018/
LOCATION:Northwest Energy Missoula\, 1903 S. Russell St.\, Missoula\, MT\, 59806\, United States
END:VEVENT
END:VCALENDAR