BEGIN:VCALENDAR
VERSION:2.0
PRODID:-//350Montana - ECPv5.2.1.1//NONSGML v1.0//EN
CALSCALE:GREGORIAN
METHOD:PUBLISH
X-WR-CALNAME:350Montana
X-ORIGINAL-URL:https://www.350montana.org
X-WR-CALDESC:Events for 350Montana
BEGIN:VTIMEZONE
TZID:America/Denver
BEGIN:DAYLIGHT
TZOFFSETFROM:-0700
TZOFFSETTO:-0600
TZNAME:MDT
DTSTART:20180311T090000
END:DAYLIGHT
BEGIN:STANDARD
TZOFFSETFROM:-0600
TZOFFSETTO:-0700
TZNAME:MST
DTSTART:20181104T080000
END:STANDARD
END:VTIMEZONE
BEGIN:VEVENT
DTSTART;TZID=America/Denver:20181029T120000
DTEND;TZID=America/Denver:20181029T133000
DTSTAMP:20260421T095430
CREATED:20181016T212917Z
LAST-MODIFIED:20181016T214655Z
UID:3863-1540814400-1540819800@www.350montana.org
SUMMARY:#TrialoftheCentury Missoula
DESCRIPTION:Signup   and attend. \nJoin us for a rally at the federal courthouse to be a part of the #TrialoftheCentury and support these young plaintiffs in the historic Juliana v. United States court case. Bring signs of support and gather for an hour vigil\, from noon to 1 p.m.\, in front of Missoula’s federal courthouse. \nOur country and our world the must take “rapid\, far-reaching and unprecedented changes in all aspects of society” to avoid disastrous levels of global warming\, according to this month’s Intergovernmental Panel on Climate Change (IPCC). \nBut our government turns a blind eye to our degrading climate. \nIt just so happens “the climate trial of the century” is beginning in Eugene\, Oregon\, on October 29 featuring 21 brave youth who are taking on Trump and the U.S. government and standing up for their constitutional right to a safe future.  \nOur freedom depends on a climate system that will sustain human life. Let’s show the government that it has a duty to prepare and implement a Climate Recovery Plan to protect our basic and most fundamental rights! \n 
URL:https://www.350montana.org/event/trialofthecentury-gathering/
LOCATION:Federal Courthouse (Msla)\, 201 East Broadway\, Missoula\, 59802\, United States
END:VEVENT
END:VCALENDAR