BEGIN:VCALENDAR
VERSION:2.0
PRODID:-//350Montana - ECPv5.2.1.1//NONSGML v1.0//EN
CALSCALE:GREGORIAN
METHOD:PUBLISH
X-WR-CALNAME:350Montana
X-ORIGINAL-URL:https://www.350montana.org
X-WR-CALDESC:Events for 350Montana
BEGIN:VTIMEZONE
TZID:America/Denver
BEGIN:DAYLIGHT
TZOFFSETFROM:-0700
TZOFFSETTO:-0600
TZNAME:MDT
DTSTART:20180311T090000
END:DAYLIGHT
BEGIN:STANDARD
TZOFFSETFROM:-0600
TZOFFSETTO:-0700
TZNAME:MST
DTSTART:20181104T080000
END:STANDARD
END:VTIMEZONE
BEGIN:VEVENT
DTSTART;TZID=America/Denver:20180213T190000
DTEND;TZID=America/Denver:20180213T203000
DTSTAMP:20260420T144235
CREATED:20180127T131650Z
LAST-MODIFIED:20180127T131703Z
UID:3424-1518548400-1518553800@www.350montana.org
SUMMARY:Climate Change in Missoula
DESCRIPTION:What:   Climate Change in Missoula: From Statistics to Strategies\, a free public meeting to learn more about the Montana Climate Assessment\, what Missoula can expect in the future\, and how Missoula is responding.\n\nWhen:  Tuesday\, February 13\, 7:00-8:30 pm\nWhere:  Missoula Public Library\n\nThe evening is divided into two sections.  The first half hour will hit the highlights of the Montana Climate Assessment chapters 1 and 2 and how these forecasts will likely affect Missoula\, including what to expect this spring and summer given current snowpack.  After 10 minutes of Q and A on the science\, the second half will focus on Missoula’s response.  This is the portion where Montana350.org would stand up and report briefly on what it is doing\, with the intent that those interested could get more details right after the meeting through tabling in the back of the room.
URL:https://www.350montana.org/event/climate-change-in-missoula-2-13-2018/
LOCATION:Missoula Public Library (large conference room)\, 301 E Main St\, Missoula\, MT\, 59802\, United States
END:VEVENT
END:VCALENDAR